BEGIN:VCALENDAR
VERSION:2.0
PRODID:-//Revival Harvest Ministry - ECPv6.15.16.1//NONSGML v1.0//EN
CALSCALE:GREGORIAN
METHOD:PUBLISH
X-WR-CALNAME:Revival Harvest Ministry
X-ORIGINAL-URL:https://revivalharvest.org
X-WR-CALDESC:Events for Revival Harvest Ministry
REFRESH-INTERVAL;VALUE=DURATION:PT1H
X-Robots-Tag:noindex
X-PUBLISHED-TTL:PT1H
BEGIN:VTIMEZONE
TZID:America/Los_Angeles
BEGIN:DAYLIGHT
TZOFFSETFROM:-0800
TZOFFSETTO:-0700
TZNAME:PDT
DTSTART:20250309T100000
END:DAYLIGHT
BEGIN:STANDARD
TZOFFSETFROM:-0700
TZOFFSETTO:-0800
TZNAME:PST
DTSTART:20251102T090000
END:STANDARD
BEGIN:DAYLIGHT
TZOFFSETFROM:-0800
TZOFFSETTO:-0700
TZNAME:PDT
DTSTART:20260308T100000
END:DAYLIGHT
BEGIN:STANDARD
TZOFFSETFROM:-0700
TZOFFSETTO:-0800
TZNAME:PST
DTSTART:20261101T090000
END:STANDARD
BEGIN:DAYLIGHT
TZOFFSETFROM:-0800
TZOFFSETTO:-0700
TZNAME:PDT
DTSTART:20270314T100000
END:DAYLIGHT
BEGIN:STANDARD
TZOFFSETFROM:-0700
TZOFFSETTO:-0800
TZNAME:PST
DTSTART:20271107T090000
END:STANDARD
END:VTIMEZONE
BEGIN:VEVENT
DTSTART;TZID=America/Los_Angeles:20260504T180000
DTEND;TZID=America/Los_Angeles:20260504T190000
DTSTAMP:20260423T044746
CREATED:20260122T195538Z
LAST-MODIFIED:20260122T195538Z
UID:1163-1777917600-1777921200@revivalharvest.org
SUMMARY:Monday @6 with Jim & Shannon
DESCRIPTION:Catch Jim & Shannon Thornton Live on\nyour favorite social media platforms\nEvery Monday\, live at 6pm\nFor YouTube go here: https://www.youtube.com/@RevivalHarvestMinistry
URL:https://revivalharvest.org/event/monday-6-with-jim-shannon/
END:VEVENT
BEGIN:VEVENT
DTSTART;TZID=America/Los_Angeles:20260516T100000
DTEND;TZID=America/Los_Angeles:20260516T120000
DTSTAMP:20260423T044746
CREATED:20260122T194858Z
LAST-MODIFIED:20260402T234042Z
UID:1159-1778925600-1778932800@revivalharvest.org
SUMMARY:River Church Miracle Service (10am)
DESCRIPTION:
URL:https://revivalharvest.org/event/power-faith-miracle-revival/
LOCATION:The River Church\, 5300 Macarther Blvd\, #202\, Vancouver\, Washington\, 98661
END:VEVENT
BEGIN:VEVENT
DTSTART;TZID=America/Los_Angeles:20260601T180000
DTEND;TZID=America/Los_Angeles:20260601T190000
DTSTAMP:20260423T044746
CREATED:20260122T195644Z
LAST-MODIFIED:20260122T195644Z
UID:1165-1780336800-1780340400@revivalharvest.org
SUMMARY:Monday @6pm with Jim & Shannon
DESCRIPTION:Catch Jim & Shannon Thornton Live on\nyour favorite social media platforms\nEvery Monday\, live at 6pm\nFor YouTube go here: https://www.youtube.com/@RevivalHarvestMinistry
URL:https://revivalharvest.org/event/monday-6pm-with-jim-shannon-7/
END:VEVENT
END:VCALENDAR