BEGIN:VCALENDAR
VERSION:2.0
PRODID:-//Revival Harvest Ministry - ECPv6.15.16.1//NONSGML v1.0//EN
CALSCALE:GREGORIAN
METHOD:PUBLISH
X-WR-CALNAME:Revival Harvest Ministry
X-ORIGINAL-URL:https://revivalharvest.org
X-WR-CALDESC:Events for Revival Harvest Ministry
REFRESH-INTERVAL;VALUE=DURATION:PT1H
X-Robots-Tag:noindex
X-PUBLISHED-TTL:PT1H
BEGIN:VTIMEZONE
TZID:America/Los_Angeles
BEGIN:DAYLIGHT
TZOFFSETFROM:-0800
TZOFFSETTO:-0700
TZNAME:PDT
DTSTART:20240310T100000
END:DAYLIGHT
BEGIN:STANDARD
TZOFFSETFROM:-0700
TZOFFSETTO:-0800
TZNAME:PST
DTSTART:20241103T090000
END:STANDARD
BEGIN:DAYLIGHT
TZOFFSETFROM:-0800
TZOFFSETTO:-0700
TZNAME:PDT
DTSTART:20250309T100000
END:DAYLIGHT
BEGIN:STANDARD
TZOFFSETFROM:-0700
TZOFFSETTO:-0800
TZNAME:PST
DTSTART:20251102T090000
END:STANDARD
BEGIN:DAYLIGHT
TZOFFSETFROM:-0800
TZOFFSETTO:-0700
TZNAME:PDT
DTSTART:20260308T100000
END:DAYLIGHT
BEGIN:STANDARD
TZOFFSETFROM:-0700
TZOFFSETTO:-0800
TZNAME:PST
DTSTART:20261101T090000
END:STANDARD
END:VTIMEZONE
BEGIN:VEVENT
DTSTART;TZID=America/Los_Angeles:20250922T080000
DTEND;TZID=America/Los_Angeles:20250922T170000
DTSTAMP:20260423T134235
CREATED:20250819T020510Z
LAST-MODIFIED:20250819T020510Z
UID:990-1758528000-1758560400@revivalharvest.org
SUMMARY:Monday @ 6pm with Jim & Shannon
DESCRIPTION:
URL:https://revivalharvest.org/event/monday-6pm-with-jim-shannon-5/
END:VEVENT
BEGIN:VEVENT
DTSTART;TZID=America/Los_Angeles:20250915T080000
DTEND;TZID=America/Los_Angeles:20250915T170000
DTSTAMP:20260423T134235
CREATED:20250819T020439Z
LAST-MODIFIED:20250819T020439Z
UID:988-1757923200-1757955600@revivalharvest.org
SUMMARY:Monday @ 6pm with Jim & Shannon
DESCRIPTION:
URL:https://revivalharvest.org/event/monday-6pm-with-jim-shannon-4/
END:VEVENT
BEGIN:VEVENT
DTSTART;TZID=America/Los_Angeles:20250908T080000
DTEND;TZID=America/Los_Angeles:20250908T170000
DTSTAMP:20260423T134235
CREATED:20250819T020409Z
LAST-MODIFIED:20250819T020409Z
UID:986-1757318400-1757350800@revivalharvest.org
SUMMARY:Monday @ 6pm with Jim & Shannon
DESCRIPTION:
URL:https://revivalharvest.org/event/monday-6pm-with-jim-shannon-3/
END:VEVENT
BEGIN:VEVENT
DTSTART;TZID=America/Los_Angeles:20250903T000000
DTEND;TZID=America/Los_Angeles:20250906T235900
DTSTAMP:20260423T134235
CREATED:20250902T210811Z
LAST-MODIFIED:20250901T015127Z
UID:956-1756857600-1757203140@revivalharvest.org
SUMMARY:Revival: "Expect a Miracle" (Van WA).
DESCRIPTION:Wow\, what a great event this is going to be!
URL:https://revivalharvest.org/event/revival-expect-a-miracle/
CATEGORIES:Change Event
END:VEVENT
BEGIN:VEVENT
DTSTART;TZID=America/Los_Angeles:20250901T080000
DTEND;TZID=America/Los_Angeles:20250903T170000
DTSTAMP:20260423T134235
CREATED:20250901T030604Z
LAST-MODIFIED:20250901T030939Z
UID:1045-1756713600-1756918800@revivalharvest.org
SUMMARY:Miracle Test Event!
DESCRIPTION:How many times have you wanted to see Revival Break Out!
URL:https://revivalharvest.org/event/miracle-test-event/
END:VEVENT
BEGIN:VEVENT
DTSTART;TZID=America/Los_Angeles:20250901T080000
DTEND;TZID=America/Los_Angeles:20250901T170000
DTSTAMP:20260423T134235
CREATED:20250819T020333Z
LAST-MODIFIED:20250819T020333Z
UID:984-1756713600-1756746000@revivalharvest.org
SUMMARY:Monday @ 6pm with Jim & Shannon
DESCRIPTION:
URL:https://revivalharvest.org/event/monday-6pm-with-jim-shannon-2/
END:VEVENT
BEGIN:VEVENT
DTSTART;TZID=America/Los_Angeles:20250825T080000
DTEND;TZID=America/Los_Angeles:20250825T170000
DTSTAMP:20260423T134235
CREATED:20250819T014710Z
LAST-MODIFIED:20250819T014710Z
UID:980-1756108800-1756141200@revivalharvest.org
SUMMARY:Monday @ 6pm with Jim & Shannon
DESCRIPTION:
URL:https://revivalharvest.org/event/monday-6pm-with-jim-shannon/
END:VEVENT
BEGIN:VEVENT
DTSTART;TZID=America/Los_Angeles:20250823T080000
DTEND;TZID=America/Los_Angeles:20250823T170000
DTSTAMP:20260423T134235
CREATED:20250816T204510Z
LAST-MODIFIED:20250816T213045Z
UID:951-1755936000-1755968400@revivalharvest.org
SUMMARY:Test Event (Puyallup WA)
DESCRIPTION:This is a test event
URL:https://revivalharvest.org/event/test-event/
LOCATION:The River Church\, 5300 Macarther Blvd\, #202\, Vancouver\, Washington\, 98661
END:VEVENT
END:VCALENDAR