BEGIN:VCALENDAR
VERSION:2.0
PRODID:-//Revival Harvest Ministry - ECPv6.15.16.1//NONSGML v1.0//EN
CALSCALE:GREGORIAN
METHOD:PUBLISH
X-ORIGINAL-URL:https://revivalharvest.org
X-WR-CALDESC:Events for Revival Harvest Ministry
REFRESH-INTERVAL;VALUE=DURATION:PT1H
X-Robots-Tag:noindex
X-PUBLISHED-TTL:PT1H
BEGIN:VTIMEZONE
TZID:America/Los_Angeles
BEGIN:DAYLIGHT
TZOFFSETFROM:-0800
TZOFFSETTO:-0700
TZNAME:PDT
DTSTART:20250309T100000
END:DAYLIGHT
BEGIN:STANDARD
TZOFFSETFROM:-0700
TZOFFSETTO:-0800
TZNAME:PST
DTSTART:20251102T090000
END:STANDARD
BEGIN:DAYLIGHT
TZOFFSETFROM:-0800
TZOFFSETTO:-0700
TZNAME:PDT
DTSTART:20260308T100000
END:DAYLIGHT
BEGIN:STANDARD
TZOFFSETFROM:-0700
TZOFFSETTO:-0800
TZNAME:PST
DTSTART:20261101T090000
END:STANDARD
BEGIN:DAYLIGHT
TZOFFSETFROM:-0800
TZOFFSETTO:-0700
TZNAME:PDT
DTSTART:20270314T100000
END:DAYLIGHT
BEGIN:STANDARD
TZOFFSETFROM:-0700
TZOFFSETTO:-0800
TZNAME:PST
DTSTART:20271107T090000
END:STANDARD
END:VTIMEZONE
BEGIN:VEVENT
DTSTART;VALUE=DATE:20260201
DTEND;VALUE=DATE:20260202
DTSTAMP:20260423T092910
CREATED:20251224T064916Z
LAST-MODIFIED:20251224T064916Z
UID:1145-1769904000-1769990399@revivalharvest.org
SUMMARY:Africa Mission Trip (Jan-March 2025)
DESCRIPTION:Revival Harvest Ministry will be in Kenya Africa January-March of 2025; feeding starving widows and children; preaching the Gospel in churches\, in crusades and in the slums; and praying for miracles\, and winning souls for Jesus.  Please check for updates of this trip by watching the weekly program “Monday @6 with Jim and Shannon”.  To sow financially into this trip please visit: https://revivalharvest.org/donate/ \n        \n     
URL:https://revivalharvest.org/event/africa-mission-trip-jan-march-2025-2/
END:VEVENT
BEGIN:VEVENT
DTSTART;TZID=America/Los_Angeles:20260202T180000
DTEND;TZID=America/Los_Angeles:20260202T190000
DTSTAMP:20260423T092910
CREATED:20251224T043105Z
LAST-MODIFIED:20251225T070239Z
UID:1130-1770055200-1770058800@revivalharvest.org
SUMMARY:Every Monday @6pm Live Jim & Shannon
DESCRIPTION:Catch Jim & Shannon Thornton Live on\nyour favorite social media platforms\nEvery Monday\, live at 6pm\nFor YouTube go here: https://www.youtube.com/@RevivalHarvestMinistry
URL:https://revivalharvest.org/event/every-monday-6pm-live-jim-shannon/
END:VEVENT
END:VCALENDAR